BEGIN:VCALENDAR
VERSION:2.0
PRODID:-//Trawler-Calendar-Tool 0.2
METHOD:PUBLISH
BEGIN:VTIMEZONE
TZID:Europe/Berlin
BEGIN:STANDARD
TZNAME:CET
DTSTART:20100101T010000
RRULE:FREQ=YEARLY;BYDAY=-1SU;BYMONTH=10
TZOFFSETFROM:+0200
TZOFFSETTO:+0100
END:STANDARD
BEGIN:DAYLIGHT
TZNAME:CEST
DTSTART:20100101T010000
RRULE:FREQ=YEARLY;BYDAY=-1SU;BYMONTH=3
TZOFFSETFROM:+0100
TZOFFSETTO:+0200
END:DAYLIGHT
END:VTIMEZONE
X-WR-TIMEZONE:Europe/Berlin
X-ORIGINAL-URL:https://www.spd-waldbrunn.de/termine/
BEGIN:VEVENT
DTSTART;TZID=Europe/Berlin:20260807T173000
LOCATION:Pyramide an der Katzenbuckeltherme
SUMMARY:Hoketse
DESCRIPTION:Traditionelle Hoketse des
   SPD-Ortsvereins - Für Essen und Trinken ist
   gesorgt.
 
 Eingeladen und willkommen
   sind alle\, die Geselligkeit und gute Laune
   schätzen.
 
 Die SPD-Gemeinderäte
   freuen sich auf Anregungen für ihre
   Gemeinderatsarbeit.
X-ALT-DESC;FMTTYPE=text/plain:Traditionelle Hoketse des
   SPD-Ortsvereins -&nbsp\;F&uuml\;r Essen und Trinken ist
   gesorgt.
 
 Eingeladen und willkommen
   sind alle\, die Geselligkeit und gute Laune
   sch&auml\;tzen.
 
 Die SPD-Gemeinder&auml\;te
   freuen sich auf Anregungen f&uuml\;r ihre
   Gemeinderatsarbeit.
PRIORITY:5
UID:wscms192804-waldbrn-0bcd8cd1d351cea3fb74e3bf447da139
URL:https://www.spd-waldbrunn.de/calendar192804.ics
END:VEVENT
END:VCALENDAR