BEGIN:VCALENDAR
VERSION:2.0
PRODID:-//Trawler-Calendar-Tool 0.2
METHOD:PUBLISH
BEGIN:VTIMEZONE
TZID:Europe/Berlin
BEGIN:STANDARD
TZNAME:CET
DTSTART:20100101T010000
RRULE:FREQ=YEARLY;BYDAY=-1SU;BYMONTH=10
TZOFFSETFROM:+0200
TZOFFSETTO:+0100
END:STANDARD
BEGIN:DAYLIGHT
TZNAME:CEST
DTSTART:20100101T010000
RRULE:FREQ=YEARLY;BYDAY=-1SU;BYMONTH=3
TZOFFSETFROM:+0100
TZOFFSETTO:+0200
END:DAYLIGHT
END:VTIMEZONE
X-WR-TIMEZONE:Europe/Berlin
X-ORIGINAL-URL:https://www.spd-waldbrunn.de/termine/
BEGIN:VEVENT
DTSTART;TZID=Europe/Berlin:20260518T190000
LOCATION:Gasthaus Beisel\, Buckelweg 9\, 69429 Waldbrunn
SUMMARY:Mitgliederversammlung der SPD Waldbrunn-Fahrenbach
DESCRIPTION:
 
 Einladung zur
   
 
 
 
 MITGLIEDERVERSAMMLUNG
 
 
 
 am     Montag\,
   18.05.2026\, um 19.00 Uhr 
 
 im      Gasthaus
   Beisel\, Buckelweg 9\, 69429 Waldbrunn.
 
 
 
 Vorschlag
   zur Tagesordnung
 
 1. Begrüßung
 
 2. Konstituierung
 
 3. Verleihung der Ehrenmitgliedschaft im
   Ortsverein Waldbrunn-Fahrenbach an Manfred Kuhn und Guido
   Schäfer
 
        a) Vorstellung
   und Begründung der Verleihungsvorschläge des
   Ortsvereinsvorstandes
 
        b) Aussprache zu den
   Vorschlägen
 
      
    c) Beschlussfassung über die
   Verleihung
 
  4. Wahlnachlese
 
  5. Anträge
 
  6. Verschiedenes
 
 
X-ALT-DESC;FMTTYPE=text/plain:
 
 Einladung zur
   
 
 
 
 MITGLIEDERVERSAMMLUNG
 
 
 
 am&nbsp\;&nbsp\;&nbsp\;&nbsp\; Montag\,
   18.05.2026\, um 19.00 Uhr 
 
 im&nbsp\;&nbsp\;&nbsp\;&nbsp\;&nbsp\; Gasthaus
   Beisel\, Buckelweg 9\, 69429 Waldbrunn.
 
 
 
 Vorschlag
   zur Tagesordnung
 
 1. Begr&uuml\;&szlig\;ung
 
 2. Konstituierung
 
 3. Verleihung der Ehrenmitgliedschaft im
   Ortsverein Waldbrunn-Fahrenbach an&nbsp\;Manfred Kuhn und Guido
   Sch&auml\;fer
 
 &nbsp\; &nbsp\; &nbsp\; &nbsp\;a)&nbsp\;Vorstellung
   und Begr&uuml\;ndung der Verleihungsvorschl&auml\;ge des
   Ortsvereinsvorstandes
 
 &nbsp\; &nbsp\; &nbsp\; &nbsp\;b) Aussprache zu den
   Vorschl&auml\;gen
 
 &nbsp\; &nbsp\; &nbsp\;
   &nbsp\;c)&nbsp\;Beschlussfassung &uuml\;ber die
   Verleihung
 
 &nbsp\;4. Wahlnachlese
 
 &nbsp\;5. Antr&auml\;ge
 
 &nbsp\;6.&nbsp\;Verschiedenes
 
 
PRIORITY:5
UID:wscms191419-waldbrn-0bcd8cd1d351cea3fb74e3bf447da139
URL:https://www.spd-waldbrunn.de/calendar191419.ics
END:VEVENT
END:VCALENDAR